Workbook

Sheet 수강(9.23)
A1: NO | B1: 교과목명 | C1: 학부 | D1: 학년 | E1: 학번 | F1: 이름
A2: 1 | B2: 소프트웨어개발실습4(캡스톤디자인) | C2: 컴퓨터공학부 | D2: 3 | E2: 20152547 | F2: 김민재
A3: 2 | B3: 소프트웨어개발실습4(캡스톤디자인) | C3: 컴퓨터공학부 | D3: 3 | E3: 20152664 | F3: 이호준
A4: 3 | B4: 소프트웨어개발실습4(캡스톤디자인) | C4: 컴퓨터공학부 | D4: 3 | E4: 20152709 | F4: 허현성
A5: 4 | B5: 소프트웨어개발실습4(캡스톤디자인) | C5: 컴퓨터공학부 | D5: 3 | E5: 20161477 | F5: 강연우
A6: 5 | B6: 소프트웨어개발실습4(캡스톤디자인) | C6: 컴퓨터공학부 | D6: 3 | E6: 20161537 | F6: 문희준
A7: 6 | B7: 소프트웨어개발실습4(캡스톤디자인) | C7: 컴퓨터공학부 | D7: 3 | E7: 20161573 | F7: 심수민
A8: 7 | B8: 소프트웨어개발실습4(캡스톤디자인) | C8: 컴퓨터공학부 | D8: 3 | E8: 20161596 | F8: 이강석
A9: 8 | B9: 소프트웨어개발실습4(캡스톤디자인) | C9: 컴퓨터공학부 | D9: 3 | E9: 20161654 | F9: 최민성
A10: 9 | B10: 소프트웨어개발실습4(캡스톤디자인) | C10: 컴퓨터공학부 | D10: 3 | E10: 20171444 | F10: 고동환
A11: 10 | B11: 소프트웨어개발실습4(캡스톤디자인) | C11: 컴퓨터공학부 | D11: 3 | E11: 20171452 | F11: 김동욱
A12: 11 | B12: 소프트웨어개발실습4(캡스톤디자인) | C12: 컴퓨터공학부 | D12: 3 | E12: 20171457 | F12: 김민우
A13: 12 | B13: 소프트웨어개발실습4(캡스톤디자인) | C13: 컴퓨터공학부 | D13: 3 | E13: 20171460 | F13: 김봉철
... A70: 69 | B70: 소프트웨어분석및설계(캡스톤디자인) | C70: 디지털콘텐츠학부 | D70: 3 | E70: 20162515 | F70: 이정호

Sheet 신청(9.29)
A1: 순번 | B1: 교과목명 | C1: 분반 (담당교수) | D1: 교과목번호 | E1: 과제번호 | F1: 과제명 | G1: 팀원명단 | K1: 기업체 | M1: 과제지원비 | S1: 비고
G2: 구분 | H2: 학번 | I2: 성명 | J2: 인원수 | K2: 업체명 | L2: 담당자 | M2: 인쇄·유인물비 | N2: 회의비 | O2: 사무용품비 | P2: 문헌구입비 | Q2: 재료비 | R2: 합계
A3: 1 | B3: 소프트웨어개발실습4 | C3: 101 (김동현) | D3: 321451 | E3: 소웨-01 | F3: 원격진료 보조 웹 프로그램 | G3: 팀장 | H3: 201**452 | I3: 김*욱 | J3: 3 | K3: 더록 | L3: 김지현 | M3: 0 | N3: 0 | O3: 0 | P3: 0 | Q3: 0 | R3: 0 | S3: 지원금 0원
G4: 팀원 | H4: 201**477 | I4: 강*우
G5: 팀원 | H5: 201**460 | I5: 김*철
A6: 2 | E6: 소웨-02 | F6: 수강신청 연습 웹(UI개선) | G6: 팀장 | H6: 201**547 | I6: 김*재 | J6: 3 | K6: 더록 | L6: 김지현 | M6: 5000 | N6: 30000 | O6: 30000 | P6: 20000 | Q6: 15000 | R6: 100000 | S6: 운영계획서 미작성
G7: 팀원 | H7: 201**476 | I7: 김*훈
G8: 팀원 | H8: 201**444 | I8: 고*환
A9: 3 | E9: 소웨-03 | F9: 오토바이 도난방지 시스템 | G9: 팀장 | H9: 201**664 | I9: 이*준 | J9: 3 | K9: 더록 | L9: 김지현 | M9: 0 | N9: 60000 | O9: 40000 | P9: 0 | Q9: 200000 | R9: 300000 | S9: 운영계획서 미작성
G10: 팀원 | H10: 201**463 | I10: 김*경
G11: 팀원 | H11: 201**596 | I11: 이*석
A12: 4 | E12: 소웨-04 | F12: 미정 | G12: 팀 장 | H12: 201**470 | I12: 김*훈 | J12: 3 | K12: 더록 | L12: 김지현 | M12: 10000 | N12: 90000 | O12: 90000 | P12: 110000 | Q12: 0 | R12: =SUM(M12:Q14) -> 300000 | S12: 운영계획서 미작성
G13: 팀 원 | H13: 201**512 | I13: 박*혁
G14: 팀 원 | H14: 201**587 | I14: 장*영
A15: 5 | E15: 소웨-05 | F15: 사회복지와 일반인과의 재능 기부 연결 | G15: 팀 장 | H15: 201**582 | I15: 도*선 | J15: 3 | K15: 더록 | L15: 김지현 | M15: 0 | N15: 45000 | O15: 45000 | P15: 60000 | Q15: 0 | R15: =SUM(M15:Q17) -> 150000 | S15: 운영계획서 미작성
G16: 팀 원 | H16: 201**499 | I16: 민*기
G17: 팀 원 | H17: 201**503 | I17: 박*환
A18: 6 | E18: 소웨-06 | F18: webrtc를 이용한 비대면 노래방 | G18: 팀 장 | H18: 201**537 | I18: 문*준 | J18: 3 | K18: 더록 | L18: 김지현 | M18: 0 | N18: 0 | O18: 48050 | P18: 0 | Q18: 251950 | R18: =SUM(M18:Q20) -> 300000 | S18: 운영계획서 미작성
G19: 팀 원 | H19: 201**718 | I19: 염*호
G20: 팀 원 | H20: 201**446 | I20: 김*우
A21: 7 | E21: 소웨-07 | F21: 미정 | G21: 팀 장 | H21: 201**529 | I21: 박*솔 | J21: 3 | K21: 더록 | L21: 김지현 | M21: 0 | N21: 0 | O21: 0 | P21: 83000 | Q21: 0 | R21: =SUM(M21:Q23) -> 83000 | S21: 운영계획서 미작성
G22: 팀 원 | H22: 201**565 | I22: 신*희
G23: 팀 원 | H23: 201**715 | I23: 신*혜
A24: 8 | E24: 소웨-08 | F24: 미정 | G24: 팀 장 | H24: 201**515 | I24: 송*지 | J24: 3 | K24: ㈜에이아이플렛폼 | L24: 김준식 | M24: 15000 | N24: 60000 | O24: 75000 | P24: 110000 | Q24: 40000 | R24: =SUM(M24:Q26) -> 300000 | S24: 운영계획서 미작성
G25: 팀 원 | H25: 201**454 | I25: 이*빈
G26: 팀 원 | H26: 201**562 | I26: 이*희
A27: 9 | E27: 소웨-09 | F27: 미정 | G27: 팀 장 | H27: 201**537 | I27: 신*주 | J27: 3 | K27: ㈜에이아이플렛폼 | L27: 김준식 | M27: 60000 | N27: 90000 | O27: 90000 | P27: 60000 | Q27: 0 | R27: 300000 | S27: 운영계획서 미작성
G28: 팀 원 | H28: 201**613 | I28: 최*녕
G29: 팀 원 | H29: 201**555 | I29: 이*채
A30: 10 | E30: 소웨-10 | F30: DB크롤링 | G30: 팀 장 | H30: 201**573 | I30: 심*민 | J30: 3 | K30: ㈜에이아이플렛폼 | L30: 김준식 | M30: 0 | N30: 0 | O30: 10000 | P30: 22500 | Q30: 154900 | R30: =SUM(M30:Q32) -> 187400 | S30: 운영계획서 미작성
G31: 팀 원 | H31: 201**578 | I31: 이*민
G32: 팀 원 | H32: 201**550 | I32: 양*현
A33: 11 | E33: 소웨-11 | F33: 미정 | G33: 팀 장 | H33: 201**571 | I33: 이*민 | J33: 3 | K33: ㈜에이아이플렛폼 | L33: 김준식 | M33: 0 | N33: 30000 | O33: 14200 | P33: 55800 | Q33: 0 | R33: =SUM(M33:Q35) -> 100000 | S33: 운영계획서 미작성
G34: 팀 원 | H34: 201**457 | I34: 김*우
G35: 팀 원 | H35: 201**550 | I35: 이*연
A36: 12 | E36: 소웨-12 | F36: 미정 | G36: 팀 장 | H36: 201**279 | I36: 조*하 | J36: 3 | K36: ㈜에이아이플렛폼 | L36: 김준식 | M36: 0 | N36: 90000 | O36: 90000 | P36: 120000 | Q36: 0 | R36: =SUM(M36:Q38) -> 300000 | S36: 운영계획서 미작성
G37: 팀 원 | H37: 201**654 | I37: 최*성
G38: 팀 원 | H38: 201**600 | I38: 조*정
A39: 13 | E39: 소웨-13 | F39: 미정 | G39: 팀 장 | H39: 201**610 | I39: 최*민 | J39: 3 | K39: ㈜에이아이플렛폼 | L39: 김준식 | M39: 10000 | N39: 90000 | O39: 90000 | P39: 50000 | Q39: 60000 | R39: =SUM(M39:Q41) -> 300000 | S39: 운영계획서 내용 부족
G40: 팀 원 | H40: 201**709 | I40: 허*성
...

Sheet 종합
A1: 연번 | B1: 학과 | C1: 책임교수 | D1: 교과목명 | E1: 분반 | F1: 담당교수 | G1: 학생수 | H1: 총 수강인원 | I1: 신청인원 | J1: 팀수 | K1: 기업체명 | L1: 담당자
A2: 1 | B2: 소프트웨어학과 | C2: 박승민 | D2: 소프트웨어개발실습4 | E2: 101 | F2: 김동현 | G2: 39 | H2: =G2+G4 -> 69 | I2: 39 | J2: 13 | K2: 더록 | L2: 김지현
K3: ㈜에이아이플렛폼 | L3: 김준식
D4: 소프트웨어분석및설계 | E4: 101 | F4: 문미경 | G4: 30 | I4: 28 | J4: 6 | K4: 카페24 | L4: 박규현
K5: 브릿지특허법률사무소 | L5: 윤은영
K6: 미스터멘션 | L6: 권두위
A9: * 예산 | C9: 계획안 | D9: 선정 | F9: 여유금액
A10: 운영비 | B10: 자문료 | C10: 1200000 | D10: 1200000 | F10: =C10-D10 -> 0 | G10: 자문료
A11: 과제지원비 | B11: 인쇄유인물비 | C11: 500000 | D11: ='신청(9.29)'!M70 -> 408000 | F11: =C11-D11 -> 92000 | G11: 인쇄유인물비
B12: 회의비 | C12: 1300000 | D12: ='신청(9.29)'!N70 -> 1265000 | F12: =C12-D12 -> 35000 | G12: 회의비
B13: 사무용품비 | C13: 1400000 | D13: ='신청(9.29)'!O70 -> 1327250 | F13: =C13-D13 -> 72750 | G13: 사무용품비
B14: 문헌구입비 | C14: 1300000 | D14: ='신청(9.29)'!P70 -> 1261300 | F14: =C14-D14 -> 38700 | G14: 문헌구입비
B15: 재료비 | C15: 700000 | D15: ='신청(9.29)'!Q70 -> 813850 | F15: =C15-D15 -> -113850 | G15: 재료비
C16: =SUM(C10:C15) -> 6400000 | D16: =SUM(D10:D15) -> 6275400
